BEGIN:VCALENDAR
VERSION:2.0
PRODID:-//Coast Cultural Alliance (CCA) - ECPv6.15.18//NONSGML v1.0//EN
CALSCALE:GREGORIAN
METHOD:PUBLISH
X-WR-CALNAME:Coast Cultural Alliance (CCA)
X-ORIGINAL-URL:https://coastculture.com
X-WR-CALDESC:Events for Coast Cultural Alliance (CCA)
REFRESH-INTERVAL;VALUE=DURATION:PT1H
X-Robots-Tag:noindex
X-PUBLISHED-TTL:PT1H
BEGIN:VTIMEZONE
TZID:America/Vancouver
BEGIN:DAYLIGHT
TZOFFSETFROM:-0800
TZOFFSETTO:-0700
TZNAME:PDT
DTSTART:20240310T100000
END:DAYLIGHT
BEGIN:STANDARD
TZOFFSETFROM:-0700
TZOFFSETTO:-0800
TZNAME:PST
DTSTART:20241103T090000
END:STANDARD
BEGIN:DAYLIGHT
TZOFFSETFROM:-0800
TZOFFSETTO:-0700
TZNAME:PDT
DTSTART:20250309T100000
END:DAYLIGHT
BEGIN:STANDARD
TZOFFSETFROM:-0700
TZOFFSETTO:-0800
TZNAME:PST
DTSTART:20251102T090000
END:STANDARD
BEGIN:DAYLIGHT
TZOFFSETFROM:-0800
TZOFFSETTO:-0700
TZNAME:PDT
DTSTART:20260308T100000
END:DAYLIGHT
BEGIN:STANDARD
TZOFFSETFROM:-0700
TZOFFSETTO:-0800
TZNAME:PST
DTSTART:20261101T090000
END:STANDARD
END:VTIMEZONE
BEGIN:VEVENT
DTSTART;TZID=America/Vancouver:20251031T160000
DTEND;TZID=America/Vancouver:20251031T173000
DTSTAMP:20260421T032402
CREATED:20251024T040308Z
LAST-MODIFIED:20251024T040308Z
UID:10099055-1761926400-1761931800@coastculture.com
SUMMARY:Trick or Treat Downtown Sechelt
DESCRIPTION:Visit Trail Bay Centre and Downtown Sechelt on Friday October 31st for Trick-or-Treating. Rain or Shine.
URL:https://coastculture.com/event/trick-or-treat-downtown-sechelt/
LOCATION:Downtown Sechelt\, PO Box 442\, Sechelt\, V0N 3A0\, Canada
ORGANIZER;CN="Sechelt Downtown Business Association":MAILTO:sdba@dccnet.com
GEO:49.5627453;-123.7532017
X-APPLE-STRUCTURED-LOCATION;VALUE=URI;X-ADDRESS=Downtown Sechelt PO Box 442 Sechelt V0N 3A0 Canada;X-APPLE-RADIUS=500;X-TITLE=PO Box 442:geo:-123.7532017,49.5627453
END:VEVENT
END:VCALENDAR