BEGIN:VCALENDAR
VERSION:2.0
PRODID:-//Coast Cultural Alliance (CCA) - ECPv6.15.18//NONSGML v1.0//EN
CALSCALE:GREGORIAN
METHOD:PUBLISH
X-WR-CALNAME:Coast Cultural Alliance (CCA)
X-ORIGINAL-URL:https://coastculture.com
X-WR-CALDESC:Events for Coast Cultural Alliance (CCA)
REFRESH-INTERVAL;VALUE=DURATION:PT1H
X-Robots-Tag:noindex
X-PUBLISHED-TTL:PT1H
BEGIN:VTIMEZONE
TZID:America/Vancouver
BEGIN:DAYLIGHT
TZOFFSETFROM:-0800
TZOFFSETTO:-0700
TZNAME:PDT
DTSTART:20240310T100000
END:DAYLIGHT
BEGIN:STANDARD
TZOFFSETFROM:-0700
TZOFFSETTO:-0800
TZNAME:PST
DTSTART:20241103T090000
END:STANDARD
BEGIN:DAYLIGHT
TZOFFSETFROM:-0800
TZOFFSETTO:-0700
TZNAME:PDT
DTSTART:20250309T100000
END:DAYLIGHT
BEGIN:STANDARD
TZOFFSETFROM:-0700
TZOFFSETTO:-0800
TZNAME:PST
DTSTART:20251102T090000
END:STANDARD
BEGIN:DAYLIGHT
TZOFFSETFROM:-0800
TZOFFSETTO:-0700
TZNAME:PDT
DTSTART:20260308T100000
END:DAYLIGHT
BEGIN:STANDARD
TZOFFSETFROM:-0700
TZOFFSETTO:-0800
TZNAME:PST
DTSTART:20261101T090000
END:STANDARD
END:VTIMEZONE
BEGIN:VEVENT
DTSTART;TZID=America/Vancouver:20250831T103000
DTEND;TZID=America/Vancouver:20250831T220000
DTSTAMP:20260421T071422
CREATED:20250824T010934Z
LAST-MODIFIED:20250825T193613Z
UID:10092450-1756636200-1756677600@coastculture.com
SUMMARY:PR - 44th Annual Sunshine Music Festival
DESCRIPTION:On Labour Day weekend 2025\, we invite you to dance your heart out under the towering trees framing our beachfront stage. Indulge in a refreshing swim\, fill your belly with delicious food from our many local vendors\, and take a wander of our artisan market to find that special treasure.\nBring your family and friends to this annual event full of music\, food\, and fun!
URL:https://coastculture.com/event/44th-annual-sunshine-music-festival/2025-08-31/
LOCATION:Palm Beach Regional Park\, Powell River\, BC\, V8A 5C1\, Canada
CATEGORIES:Community,Performance/Music
ATTACH;FMTTYPE=image/jpeg:https://coastculture.com/wp-content/uploads/2025/08/Sunshine-Music-Fest-Aug-31.jpg
ORGANIZER;CN="Sunshine Music Festival":MAILTO:prsunshinemusicfest@gmail.com
GEO:49.8211724;-124.3969376
END:VEVENT
BEGIN:VEVENT
DTSTART;TZID=America/Vancouver:20250830T103000
DTEND;TZID=America/Vancouver:20250830T220000
DTSTAMP:20260421T071422
CREATED:20250824T010934Z
LAST-MODIFIED:20250825T193613Z
UID:10092415-1756549800-1756591200@coastculture.com
SUMMARY:PR - 44th Annual Sunshine Music Festival
DESCRIPTION:On Labour Day weekend 2025\, we invite you to dance your heart out under the towering trees framing our beachfront stage. Indulge in a refreshing swim\, fill your belly with delicious food from our many local vendors\, and take a wander of our artisan market to find that special treasure.\nBring your family and friends to this annual event full of music\, food\, and fun!
URL:https://coastculture.com/event/44th-annual-sunshine-music-festival/2025-08-30/
LOCATION:Palm Beach Regional Park\, Powell River\, BC\, V8A 5C1\, Canada
CATEGORIES:Community,Performance/Music
ATTACH;FMTTYPE=image/jpeg:https://coastculture.com/wp-content/uploads/2025/08/Sunshine-Music-Fest-Aug-31.jpg
ORGANIZER;CN="Sunshine Music Festival":MAILTO:prsunshinemusicfest@gmail.com
GEO:49.8211724;-124.3969376
END:VEVENT
END:VCALENDAR