BEGIN:VCALENDAR
VERSION:2.0
PRODID:-//Coast Cultural Alliance (CCA) - ECPv6.15.18//NONSGML v1.0//EN
CALSCALE:GREGORIAN
METHOD:PUBLISH
X-WR-CALNAME:Coast Cultural Alliance (CCA)
X-ORIGINAL-URL:https://coastculture.com
X-WR-CALDESC:Events for Coast Cultural Alliance (CCA)
REFRESH-INTERVAL;VALUE=DURATION:PT1H
X-Robots-Tag:noindex
X-PUBLISHED-TTL:PT1H
BEGIN:VTIMEZONE
TZID:America/Vancouver
BEGIN:DAYLIGHT
TZOFFSETFROM:-0800
TZOFFSETTO:-0700
TZNAME:PDT
DTSTART:20250309T100000
END:DAYLIGHT
BEGIN:STANDARD
TZOFFSETFROM:-0700
TZOFFSETTO:-0800
TZNAME:PST
DTSTART:20251102T090000
END:STANDARD
BEGIN:DAYLIGHT
TZOFFSETFROM:-0800
TZOFFSETTO:-0700
TZNAME:PDT
DTSTART:20260308T100000
END:DAYLIGHT
BEGIN:STANDARD
TZOFFSETFROM:-0700
TZOFFSETTO:-0800
TZNAME:PST
DTSTART:20261101T090000
END:STANDARD
BEGIN:DAYLIGHT
TZOFFSETFROM:-0800
TZOFFSETTO:-0700
TZNAME:PDT
DTSTART:20270314T100000
END:DAYLIGHT
BEGIN:STANDARD
TZOFFSETFROM:-0700
TZOFFSETTO:-0800
TZNAME:PST
DTSTART:20271107T090000
END:STANDARD
END:VTIMEZONE
BEGIN:VEVENT
DTSTART;TZID=America/Vancouver:20260410T180000
DTEND;TZID=America/Vancouver:20260410T220000
DTSTAMP:20260421T050149
CREATED:20260317T171428Z
LAST-MODIFIED:20260406T143250Z
UID:10109970-1775844000-1775858400@coastculture.com
SUMMARY:Seaside Centre: RCMSAR12 Annual Fundraiser
DESCRIPTION:Tickets are now available for our Annual Fundraiser!! \nSupport the Sunshine Coast Marine Rescue Society with a fun night out! Our evening will feature live music by Rebecca Lorna & Jeremy Forester\, a brief program honouring our volunteer crew and a Silent + Live Auction to help keep this little local marine rescue team trained\, equipped\, and ready to save lives on the water! \nDoors 6:00 PM | Event ends 10:00 PM \n$55 (limited capacity — advance purchase strongly recommended)\n19+ event (ID required at the door) \nIncludes\, entry + a welcome cocktail and Catering provided by TK’s Gourmet \nCash bar: drink tickets sold separately (beer\, wine\, cider + non-alcoholic options) \nLive & Silent Auction: mobile bidding opens April 1 (items displayed upstairs) \nRaffle tickets available $10\nTwo Coastal Getaway Prize Packages.
URL:https://coastculture.com/event/seaside-centre-rcmsar12-annual-fundraiser/
LOCATION:Seaside Centre\, 5790 Teredo St.\, Sechelt\, V0N 3A0
CATEGORIES:Community
ATTACH;FMTTYPE=image/jpeg:https://coastculture.com/wp-content/uploads/2026/03/IMG_0526.jpeg
GEO:49.4711734;-123.7628361
X-APPLE-STRUCTURED-LOCATION;VALUE=URI;X-ADDRESS=Seaside Centre 5790 Teredo St. Sechelt V0N 3A0;X-APPLE-RADIUS=500;X-TITLE=5790 Teredo St.:geo:-123.7628361,49.4711734
END:VEVENT
END:VCALENDAR