BEGIN:VCALENDAR
VERSION:2.0
PRODID:-//Coast Cultural Alliance (CCA) - ECPv6.15.18//NONSGML v1.0//EN
CALSCALE:GREGORIAN
METHOD:PUBLISH
X-ORIGINAL-URL:https://coastculture.com
X-WR-CALDESC:Events for Coast Cultural Alliance (CCA)
REFRESH-INTERVAL;VALUE=DURATION:PT1H
X-Robots-Tag:noindex
X-PUBLISHED-TTL:PT1H
BEGIN:VTIMEZONE
TZID:America/Vancouver
BEGIN:DAYLIGHT
TZOFFSETFROM:-0800
TZOFFSETTO:-0700
TZNAME:PDT
DTSTART:20240310T100000
END:DAYLIGHT
BEGIN:STANDARD
TZOFFSETFROM:-0700
TZOFFSETTO:-0800
TZNAME:PST
DTSTART:20241103T090000
END:STANDARD
BEGIN:DAYLIGHT
TZOFFSETFROM:-0800
TZOFFSETTO:-0700
TZNAME:PDT
DTSTART:20250309T100000
END:DAYLIGHT
BEGIN:STANDARD
TZOFFSETFROM:-0700
TZOFFSETTO:-0800
TZNAME:PST
DTSTART:20251102T090000
END:STANDARD
BEGIN:DAYLIGHT
TZOFFSETFROM:-0800
TZOFFSETTO:-0700
TZNAME:PDT
DTSTART:20260308T100000
END:DAYLIGHT
BEGIN:STANDARD
TZOFFSETFROM:-0700
TZOFFSETTO:-0800
TZNAME:PST
DTSTART:20261101T090000
END:STANDARD
END:VTIMEZONE
BEGIN:VEVENT
DTSTART;VALUE=DATE:20250812
DTEND;VALUE=DATE:20250814
DTSTAMP:20260419T091909
CREATED:20250719T183748Z
LAST-MODIFIED:20250719T184356Z
UID:10088801-1754960400-1755046799@coastculture.com
SUMMARY:Opportunity: Calling all Young Artists & Food Vendors
DESCRIPTION:Heat and Sol Coastal Farm are hosting a Youth Art Exhibit & Cafe at their Art Crawl venue in West Sechelt for Art Crawl 2025. We are looking for young artists and food vendors to join our exhibit themed ‘Be Brave’. \nThere is no fee to exhibit or sell your art. This is a community / family friendly event to celebrate all the young creatives in our community. \nTo apply\, head to our website\, www.heartandsol.ca/artcrawl2025.
URL:https://coastculture.com/event/opportunity-calling-all-young-artists-food-vendors/2025-08-12/
LOCATION:Heart and Sol Farm\, 6282 Crowston Rd\, Sechelt\, BC\, V0N 1V9\, Canada
CATEGORIES:Artist Opportunity
GEO:49.4998974;-123.7935527
X-APPLE-STRUCTURED-LOCATION;VALUE=URI;X-ADDRESS=Heart and Sol Farm 6282 Crowston Rd Sechelt BC V0N 1V9 Canada;X-APPLE-RADIUS=500;X-TITLE=6282 Crowston Rd:geo:-123.7935527,49.4998974
END:VEVENT
BEGIN:VEVENT
DTSTART;VALUE=DATE:20250811
DTEND;VALUE=DATE:20250813
DTSTAMP:20260419T091909
CREATED:20250719T183748Z
LAST-MODIFIED:20250719T184356Z
UID:10088800-1754874000-1754960399@coastculture.com
SUMMARY:Opportunity: Calling all Young Artists & Food Vendors
DESCRIPTION:Heat and Sol Coastal Farm are hosting a Youth Art Exhibit & Cafe at their Art Crawl venue in West Sechelt for Art Crawl 2025. We are looking for young artists and food vendors to join our exhibit themed ‘Be Brave’. \nThere is no fee to exhibit or sell your art. This is a community / family friendly event to celebrate all the young creatives in our community. \nTo apply\, head to our website\, www.heartandsol.ca/artcrawl2025.
URL:https://coastculture.com/event/opportunity-calling-all-young-artists-food-vendors/2025-08-11/
LOCATION:Heart and Sol Farm\, 6282 Crowston Rd\, Sechelt\, BC\, V0N 1V9\, Canada
CATEGORIES:Artist Opportunity
GEO:49.4998974;-123.7935527
X-APPLE-STRUCTURED-LOCATION;VALUE=URI;X-ADDRESS=Heart and Sol Farm 6282 Crowston Rd Sechelt BC V0N 1V9 Canada;X-APPLE-RADIUS=500;X-TITLE=6282 Crowston Rd:geo:-123.7935527,49.4998974
END:VEVENT
BEGIN:VEVENT
DTSTART;VALUE=DATE:20250810
DTEND;VALUE=DATE:20250812
DTSTAMP:20260419T091909
CREATED:20250719T183748Z
LAST-MODIFIED:20250719T184356Z
UID:10088799-1754787600-1754873999@coastculture.com
SUMMARY:Opportunity: Calling all Young Artists & Food Vendors
DESCRIPTION:Heat and Sol Coastal Farm are hosting a Youth Art Exhibit & Cafe at their Art Crawl venue in West Sechelt for Art Crawl 2025. We are looking for young artists and food vendors to join our exhibit themed ‘Be Brave’. \nThere is no fee to exhibit or sell your art. This is a community / family friendly event to celebrate all the young creatives in our community. \nTo apply\, head to our website\, www.heartandsol.ca/artcrawl2025.
URL:https://coastculture.com/event/opportunity-calling-all-young-artists-food-vendors/2025-08-10/
LOCATION:Heart and Sol Farm\, 6282 Crowston Rd\, Sechelt\, BC\, V0N 1V9\, Canada
CATEGORIES:Artist Opportunity
GEO:49.4998974;-123.7935527
X-APPLE-STRUCTURED-LOCATION;VALUE=URI;X-ADDRESS=Heart and Sol Farm 6282 Crowston Rd Sechelt BC V0N 1V9 Canada;X-APPLE-RADIUS=500;X-TITLE=6282 Crowston Rd:geo:-123.7935527,49.4998974
END:VEVENT
BEGIN:VEVENT
DTSTART;VALUE=DATE:20250809
DTEND;VALUE=DATE:20250811
DTSTAMP:20260419T091909
CREATED:20250719T183748Z
LAST-MODIFIED:20250719T184356Z
UID:10088798-1754701200-1754787599@coastculture.com
SUMMARY:Opportunity: Calling all Young Artists & Food Vendors
DESCRIPTION:Heat and Sol Coastal Farm are hosting a Youth Art Exhibit & Cafe at their Art Crawl venue in West Sechelt for Art Crawl 2025. We are looking for young artists and food vendors to join our exhibit themed ‘Be Brave’. \nThere is no fee to exhibit or sell your art. This is a community / family friendly event to celebrate all the young creatives in our community. \nTo apply\, head to our website\, www.heartandsol.ca/artcrawl2025.
URL:https://coastculture.com/event/opportunity-calling-all-young-artists-food-vendors/2025-08-09/
LOCATION:Heart and Sol Farm\, 6282 Crowston Rd\, Sechelt\, BC\, V0N 1V9\, Canada
CATEGORIES:Artist Opportunity
GEO:49.4998974;-123.7935527
X-APPLE-STRUCTURED-LOCATION;VALUE=URI;X-ADDRESS=Heart and Sol Farm 6282 Crowston Rd Sechelt BC V0N 1V9 Canada;X-APPLE-RADIUS=500;X-TITLE=6282 Crowston Rd:geo:-123.7935527,49.4998974
END:VEVENT
BEGIN:VEVENT
DTSTART;VALUE=DATE:20250808
DTEND;VALUE=DATE:20250810
DTSTAMP:20260419T091909
CREATED:20250719T183748Z
LAST-MODIFIED:20250719T184356Z
UID:10088797-1754614800-1754701199@coastculture.com
SUMMARY:Opportunity: Calling all Young Artists & Food Vendors
DESCRIPTION:Heat and Sol Coastal Farm are hosting a Youth Art Exhibit & Cafe at their Art Crawl venue in West Sechelt for Art Crawl 2025. We are looking for young artists and food vendors to join our exhibit themed ‘Be Brave’. \nThere is no fee to exhibit or sell your art. This is a community / family friendly event to celebrate all the young creatives in our community. \nTo apply\, head to our website\, www.heartandsol.ca/artcrawl2025.
URL:https://coastculture.com/event/opportunity-calling-all-young-artists-food-vendors/2025-08-08/
LOCATION:Heart and Sol Farm\, 6282 Crowston Rd\, Sechelt\, BC\, V0N 1V9\, Canada
CATEGORIES:Artist Opportunity
GEO:49.4998974;-123.7935527
X-APPLE-STRUCTURED-LOCATION;VALUE=URI;X-ADDRESS=Heart and Sol Farm 6282 Crowston Rd Sechelt BC V0N 1V9 Canada;X-APPLE-RADIUS=500;X-TITLE=6282 Crowston Rd:geo:-123.7935527,49.4998974
END:VEVENT
BEGIN:VEVENT
DTSTART;VALUE=DATE:20250807
DTEND;VALUE=DATE:20250809
DTSTAMP:20260419T091909
CREATED:20250719T183748Z
LAST-MODIFIED:20250719T184356Z
UID:10088796-1754528400-1754614799@coastculture.com
SUMMARY:Opportunity: Calling all Young Artists & Food Vendors
DESCRIPTION:Heat and Sol Coastal Farm are hosting a Youth Art Exhibit & Cafe at their Art Crawl venue in West Sechelt for Art Crawl 2025. We are looking for young artists and food vendors to join our exhibit themed ‘Be Brave’. \nThere is no fee to exhibit or sell your art. This is a community / family friendly event to celebrate all the young creatives in our community. \nTo apply\, head to our website\, www.heartandsol.ca/artcrawl2025.
URL:https://coastculture.com/event/opportunity-calling-all-young-artists-food-vendors/2025-08-07/
LOCATION:Heart and Sol Farm\, 6282 Crowston Rd\, Sechelt\, BC\, V0N 1V9\, Canada
CATEGORIES:Artist Opportunity
GEO:49.4998974;-123.7935527
X-APPLE-STRUCTURED-LOCATION;VALUE=URI;X-ADDRESS=Heart and Sol Farm 6282 Crowston Rd Sechelt BC V0N 1V9 Canada;X-APPLE-RADIUS=500;X-TITLE=6282 Crowston Rd:geo:-123.7935527,49.4998974
END:VEVENT
BEGIN:VEVENT
DTSTART;VALUE=DATE:20250806
DTEND;VALUE=DATE:20250808
DTSTAMP:20260419T091909
CREATED:20250719T183748Z
LAST-MODIFIED:20250719T184356Z
UID:10088795-1754442000-1754528399@coastculture.com
SUMMARY:Opportunity: Calling all Young Artists & Food Vendors
DESCRIPTION:Heat and Sol Coastal Farm are hosting a Youth Art Exhibit & Cafe at their Art Crawl venue in West Sechelt for Art Crawl 2025. We are looking for young artists and food vendors to join our exhibit themed ‘Be Brave’. \nThere is no fee to exhibit or sell your art. This is a community / family friendly event to celebrate all the young creatives in our community. \nTo apply\, head to our website\, www.heartandsol.ca/artcrawl2025.
URL:https://coastculture.com/event/opportunity-calling-all-young-artists-food-vendors/2025-08-06/
LOCATION:Heart and Sol Farm\, 6282 Crowston Rd\, Sechelt\, BC\, V0N 1V9\, Canada
CATEGORIES:Artist Opportunity
GEO:49.4998974;-123.7935527
X-APPLE-STRUCTURED-LOCATION;VALUE=URI;X-ADDRESS=Heart and Sol Farm 6282 Crowston Rd Sechelt BC V0N 1V9 Canada;X-APPLE-RADIUS=500;X-TITLE=6282 Crowston Rd:geo:-123.7935527,49.4998974
END:VEVENT
BEGIN:VEVENT
DTSTART;VALUE=DATE:20250805
DTEND;VALUE=DATE:20250807
DTSTAMP:20260419T091909
CREATED:20250719T183748Z
LAST-MODIFIED:20250719T184356Z
UID:10088794-1754355600-1754441999@coastculture.com
SUMMARY:Opportunity: Calling all Young Artists & Food Vendors
DESCRIPTION:Heat and Sol Coastal Farm are hosting a Youth Art Exhibit & Cafe at their Art Crawl venue in West Sechelt for Art Crawl 2025. We are looking for young artists and food vendors to join our exhibit themed ‘Be Brave’. \nThere is no fee to exhibit or sell your art. This is a community / family friendly event to celebrate all the young creatives in our community. \nTo apply\, head to our website\, www.heartandsol.ca/artcrawl2025.
URL:https://coastculture.com/event/opportunity-calling-all-young-artists-food-vendors/2025-08-05/
LOCATION:Heart and Sol Farm\, 6282 Crowston Rd\, Sechelt\, BC\, V0N 1V9\, Canada
CATEGORIES:Artist Opportunity
GEO:49.4998974;-123.7935527
X-APPLE-STRUCTURED-LOCATION;VALUE=URI;X-ADDRESS=Heart and Sol Farm 6282 Crowston Rd Sechelt BC V0N 1V9 Canada;X-APPLE-RADIUS=500;X-TITLE=6282 Crowston Rd:geo:-123.7935527,49.4998974
END:VEVENT
BEGIN:VEVENT
DTSTART;VALUE=DATE:20250804
DTEND;VALUE=DATE:20250806
DTSTAMP:20260419T091909
CREATED:20250719T183748Z
LAST-MODIFIED:20250719T184356Z
UID:10088793-1754269200-1754355599@coastculture.com
SUMMARY:Opportunity: Calling all Young Artists & Food Vendors
DESCRIPTION:Heat and Sol Coastal Farm are hosting a Youth Art Exhibit & Cafe at their Art Crawl venue in West Sechelt for Art Crawl 2025. We are looking for young artists and food vendors to join our exhibit themed ‘Be Brave’. \nThere is no fee to exhibit or sell your art. This is a community / family friendly event to celebrate all the young creatives in our community. \nTo apply\, head to our website\, www.heartandsol.ca/artcrawl2025.
URL:https://coastculture.com/event/opportunity-calling-all-young-artists-food-vendors/2025-08-04/
LOCATION:Heart and Sol Farm\, 6282 Crowston Rd\, Sechelt\, BC\, V0N 1V9\, Canada
CATEGORIES:Artist Opportunity
GEO:49.4998974;-123.7935527
X-APPLE-STRUCTURED-LOCATION;VALUE=URI;X-ADDRESS=Heart and Sol Farm 6282 Crowston Rd Sechelt BC V0N 1V9 Canada;X-APPLE-RADIUS=500;X-TITLE=6282 Crowston Rd:geo:-123.7935527,49.4998974
END:VEVENT
BEGIN:VEVENT
DTSTART;VALUE=DATE:20250803
DTEND;VALUE=DATE:20250805
DTSTAMP:20260419T091909
CREATED:20250719T183748Z
LAST-MODIFIED:20250719T184356Z
UID:10088792-1754182800-1754269199@coastculture.com
SUMMARY:Opportunity: Calling all Young Artists & Food Vendors
DESCRIPTION:Heat and Sol Coastal Farm are hosting a Youth Art Exhibit & Cafe at their Art Crawl venue in West Sechelt for Art Crawl 2025. We are looking for young artists and food vendors to join our exhibit themed ‘Be Brave’. \nThere is no fee to exhibit or sell your art. This is a community / family friendly event to celebrate all the young creatives in our community. \nTo apply\, head to our website\, www.heartandsol.ca/artcrawl2025.
URL:https://coastculture.com/event/opportunity-calling-all-young-artists-food-vendors/2025-08-03/
LOCATION:Heart and Sol Farm\, 6282 Crowston Rd\, Sechelt\, BC\, V0N 1V9\, Canada
CATEGORIES:Artist Opportunity
GEO:49.4998974;-123.7935527
X-APPLE-STRUCTURED-LOCATION;VALUE=URI;X-ADDRESS=Heart and Sol Farm 6282 Crowston Rd Sechelt BC V0N 1V9 Canada;X-APPLE-RADIUS=500;X-TITLE=6282 Crowston Rd:geo:-123.7935527,49.4998974
END:VEVENT
BEGIN:VEVENT
DTSTART;VALUE=DATE:20250802
DTEND;VALUE=DATE:20250804
DTSTAMP:20260419T091909
CREATED:20250719T183748Z
LAST-MODIFIED:20250719T184356Z
UID:10088791-1754096400-1754182799@coastculture.com
SUMMARY:Opportunity: Calling all Young Artists & Food Vendors
DESCRIPTION:Heat and Sol Coastal Farm are hosting a Youth Art Exhibit & Cafe at their Art Crawl venue in West Sechelt for Art Crawl 2025. We are looking for young artists and food vendors to join our exhibit themed ‘Be Brave’. \nThere is no fee to exhibit or sell your art. This is a community / family friendly event to celebrate all the young creatives in our community. \nTo apply\, head to our website\, www.heartandsol.ca/artcrawl2025.
URL:https://coastculture.com/event/opportunity-calling-all-young-artists-food-vendors/2025-08-02/
LOCATION:Heart and Sol Farm\, 6282 Crowston Rd\, Sechelt\, BC\, V0N 1V9\, Canada
CATEGORIES:Artist Opportunity
GEO:49.4998974;-123.7935527
X-APPLE-STRUCTURED-LOCATION;VALUE=URI;X-ADDRESS=Heart and Sol Farm 6282 Crowston Rd Sechelt BC V0N 1V9 Canada;X-APPLE-RADIUS=500;X-TITLE=6282 Crowston Rd:geo:-123.7935527,49.4998974
END:VEVENT
BEGIN:VEVENT
DTSTART;VALUE=DATE:20250801
DTEND;VALUE=DATE:20250803
DTSTAMP:20260419T091909
CREATED:20250719T183748Z
LAST-MODIFIED:20250719T184356Z
UID:10088790-1754010000-1754096399@coastculture.com
SUMMARY:Opportunity: Calling all Young Artists & Food Vendors
DESCRIPTION:Heat and Sol Coastal Farm are hosting a Youth Art Exhibit & Cafe at their Art Crawl venue in West Sechelt for Art Crawl 2025. We are looking for young artists and food vendors to join our exhibit themed ‘Be Brave’. \nThere is no fee to exhibit or sell your art. This is a community / family friendly event to celebrate all the young creatives in our community. \nTo apply\, head to our website\, www.heartandsol.ca/artcrawl2025.
URL:https://coastculture.com/event/opportunity-calling-all-young-artists-food-vendors/2025-08-01/
LOCATION:Heart and Sol Farm\, 6282 Crowston Rd\, Sechelt\, BC\, V0N 1V9\, Canada
CATEGORIES:Artist Opportunity
GEO:49.4998974;-123.7935527
X-APPLE-STRUCTURED-LOCATION;VALUE=URI;X-ADDRESS=Heart and Sol Farm 6282 Crowston Rd Sechelt BC V0N 1V9 Canada;X-APPLE-RADIUS=500;X-TITLE=6282 Crowston Rd:geo:-123.7935527,49.4998974
END:VEVENT
BEGIN:VEVENT
DTSTART;VALUE=DATE:20250731
DTEND;VALUE=DATE:20250802
DTSTAMP:20260419T091909
CREATED:20250719T183748Z
LAST-MODIFIED:20250719T184356Z
UID:10088789-1753923600-1754009999@coastculture.com
SUMMARY:Opportunity: Calling all Young Artists & Food Vendors
DESCRIPTION:Heat and Sol Coastal Farm are hosting a Youth Art Exhibit & Cafe at their Art Crawl venue in West Sechelt for Art Crawl 2025. We are looking for young artists and food vendors to join our exhibit themed ‘Be Brave’. \nThere is no fee to exhibit or sell your art. This is a community / family friendly event to celebrate all the young creatives in our community. \nTo apply\, head to our website\, www.heartandsol.ca/artcrawl2025.
URL:https://coastculture.com/event/opportunity-calling-all-young-artists-food-vendors/2025-07-31/
LOCATION:Heart and Sol Farm\, 6282 Crowston Rd\, Sechelt\, BC\, V0N 1V9\, Canada
CATEGORIES:Artist Opportunity
GEO:49.4998974;-123.7935527
X-APPLE-STRUCTURED-LOCATION;VALUE=URI;X-ADDRESS=Heart and Sol Farm 6282 Crowston Rd Sechelt BC V0N 1V9 Canada;X-APPLE-RADIUS=500;X-TITLE=6282 Crowston Rd:geo:-123.7935527,49.4998974
END:VEVENT
BEGIN:VEVENT
DTSTART;VALUE=DATE:20250730
DTEND;VALUE=DATE:20250801
DTSTAMP:20260419T091910
CREATED:20250719T183748Z
LAST-MODIFIED:20250719T184356Z
UID:10088788-1753837200-1753923599@coastculture.com
SUMMARY:Opportunity: Calling all Young Artists & Food Vendors
DESCRIPTION:Heat and Sol Coastal Farm are hosting a Youth Art Exhibit & Cafe at their Art Crawl venue in West Sechelt for Art Crawl 2025. We are looking for young artists and food vendors to join our exhibit themed ‘Be Brave’. \nThere is no fee to exhibit or sell your art. This is a community / family friendly event to celebrate all the young creatives in our community. \nTo apply\, head to our website\, www.heartandsol.ca/artcrawl2025.
URL:https://coastculture.com/event/opportunity-calling-all-young-artists-food-vendors/2025-07-30/
LOCATION:Heart and Sol Farm\, 6282 Crowston Rd\, Sechelt\, BC\, V0N 1V9\, Canada
CATEGORIES:Artist Opportunity
GEO:49.4998974;-123.7935527
X-APPLE-STRUCTURED-LOCATION;VALUE=URI;X-ADDRESS=Heart and Sol Farm 6282 Crowston Rd Sechelt BC V0N 1V9 Canada;X-APPLE-RADIUS=500;X-TITLE=6282 Crowston Rd:geo:-123.7935527,49.4998974
END:VEVENT
BEGIN:VEVENT
DTSTART;VALUE=DATE:20250729
DTEND;VALUE=DATE:20250731
DTSTAMP:20260419T091910
CREATED:20250719T183748Z
LAST-MODIFIED:20250719T184356Z
UID:10088787-1753750800-1753837199@coastculture.com
SUMMARY:Opportunity: Calling all Young Artists & Food Vendors
DESCRIPTION:Heat and Sol Coastal Farm are hosting a Youth Art Exhibit & Cafe at their Art Crawl venue in West Sechelt for Art Crawl 2025. We are looking for young artists and food vendors to join our exhibit themed ‘Be Brave’. \nThere is no fee to exhibit or sell your art. This is a community / family friendly event to celebrate all the young creatives in our community. \nTo apply\, head to our website\, www.heartandsol.ca/artcrawl2025.
URL:https://coastculture.com/event/opportunity-calling-all-young-artists-food-vendors/2025-07-29/
LOCATION:Heart and Sol Farm\, 6282 Crowston Rd\, Sechelt\, BC\, V0N 1V9\, Canada
CATEGORIES:Artist Opportunity
GEO:49.4998974;-123.7935527
X-APPLE-STRUCTURED-LOCATION;VALUE=URI;X-ADDRESS=Heart and Sol Farm 6282 Crowston Rd Sechelt BC V0N 1V9 Canada;X-APPLE-RADIUS=500;X-TITLE=6282 Crowston Rd:geo:-123.7935527,49.4998974
END:VEVENT
BEGIN:VEVENT
DTSTART;VALUE=DATE:20250728
DTEND;VALUE=DATE:20250730
DTSTAMP:20260419T091910
CREATED:20250719T183748Z
LAST-MODIFIED:20250719T184356Z
UID:10088786-1753664400-1753750799@coastculture.com
SUMMARY:Opportunity: Calling all Young Artists & Food Vendors
DESCRIPTION:Heat and Sol Coastal Farm are hosting a Youth Art Exhibit & Cafe at their Art Crawl venue in West Sechelt for Art Crawl 2025. We are looking for young artists and food vendors to join our exhibit themed ‘Be Brave’. \nThere is no fee to exhibit or sell your art. This is a community / family friendly event to celebrate all the young creatives in our community. \nTo apply\, head to our website\, www.heartandsol.ca/artcrawl2025.
URL:https://coastculture.com/event/opportunity-calling-all-young-artists-food-vendors/2025-07-28/
LOCATION:Heart and Sol Farm\, 6282 Crowston Rd\, Sechelt\, BC\, V0N 1V9\, Canada
CATEGORIES:Artist Opportunity
GEO:49.4998974;-123.7935527
X-APPLE-STRUCTURED-LOCATION;VALUE=URI;X-ADDRESS=Heart and Sol Farm 6282 Crowston Rd Sechelt BC V0N 1V9 Canada;X-APPLE-RADIUS=500;X-TITLE=6282 Crowston Rd:geo:-123.7935527,49.4998974
END:VEVENT
BEGIN:VEVENT
DTSTART;VALUE=DATE:20250727
DTEND;VALUE=DATE:20250729
DTSTAMP:20260419T091910
CREATED:20250719T183748Z
LAST-MODIFIED:20250719T184356Z
UID:10088785-1753578000-1753664399@coastculture.com
SUMMARY:Opportunity: Calling all Young Artists & Food Vendors
DESCRIPTION:Heat and Sol Coastal Farm are hosting a Youth Art Exhibit & Cafe at their Art Crawl venue in West Sechelt for Art Crawl 2025. We are looking for young artists and food vendors to join our exhibit themed ‘Be Brave’. \nThere is no fee to exhibit or sell your art. This is a community / family friendly event to celebrate all the young creatives in our community. \nTo apply\, head to our website\, www.heartandsol.ca/artcrawl2025.
URL:https://coastculture.com/event/opportunity-calling-all-young-artists-food-vendors/2025-07-27/
LOCATION:Heart and Sol Farm\, 6282 Crowston Rd\, Sechelt\, BC\, V0N 1V9\, Canada
CATEGORIES:Artist Opportunity
GEO:49.4998974;-123.7935527
X-APPLE-STRUCTURED-LOCATION;VALUE=URI;X-ADDRESS=Heart and Sol Farm 6282 Crowston Rd Sechelt BC V0N 1V9 Canada;X-APPLE-RADIUS=500;X-TITLE=6282 Crowston Rd:geo:-123.7935527,49.4998974
END:VEVENT
BEGIN:VEVENT
DTSTART;VALUE=DATE:20250726
DTEND;VALUE=DATE:20250728
DTSTAMP:20260419T091910
CREATED:20250719T183748Z
LAST-MODIFIED:20250719T184356Z
UID:10088784-1753491600-1753577999@coastculture.com
SUMMARY:Opportunity: Calling all Young Artists & Food Vendors
DESCRIPTION:Heat and Sol Coastal Farm are hosting a Youth Art Exhibit & Cafe at their Art Crawl venue in West Sechelt for Art Crawl 2025. We are looking for young artists and food vendors to join our exhibit themed ‘Be Brave’. \nThere is no fee to exhibit or sell your art. This is a community / family friendly event to celebrate all the young creatives in our community. \nTo apply\, head to our website\, www.heartandsol.ca/artcrawl2025.
URL:https://coastculture.com/event/opportunity-calling-all-young-artists-food-vendors/2025-07-26/
LOCATION:Heart and Sol Farm\, 6282 Crowston Rd\, Sechelt\, BC\, V0N 1V9\, Canada
CATEGORIES:Artist Opportunity
GEO:49.4998974;-123.7935527
X-APPLE-STRUCTURED-LOCATION;VALUE=URI;X-ADDRESS=Heart and Sol Farm 6282 Crowston Rd Sechelt BC V0N 1V9 Canada;X-APPLE-RADIUS=500;X-TITLE=6282 Crowston Rd:geo:-123.7935527,49.4998974
END:VEVENT
BEGIN:VEVENT
DTSTART;VALUE=DATE:20250725
DTEND;VALUE=DATE:20250727
DTSTAMP:20260419T091910
CREATED:20250719T183748Z
LAST-MODIFIED:20250719T184356Z
UID:10088783-1753405200-1753491599@coastculture.com
SUMMARY:Opportunity: Calling all Young Artists & Food Vendors
DESCRIPTION:Heat and Sol Coastal Farm are hosting a Youth Art Exhibit & Cafe at their Art Crawl venue in West Sechelt for Art Crawl 2025. We are looking for young artists and food vendors to join our exhibit themed ‘Be Brave’. \nThere is no fee to exhibit or sell your art. This is a community / family friendly event to celebrate all the young creatives in our community. \nTo apply\, head to our website\, www.heartandsol.ca/artcrawl2025.
URL:https://coastculture.com/event/opportunity-calling-all-young-artists-food-vendors/2025-07-25/
LOCATION:Heart and Sol Farm\, 6282 Crowston Rd\, Sechelt\, BC\, V0N 1V9\, Canada
CATEGORIES:Artist Opportunity
GEO:49.4998974;-123.7935527
X-APPLE-STRUCTURED-LOCATION;VALUE=URI;X-ADDRESS=Heart and Sol Farm 6282 Crowston Rd Sechelt BC V0N 1V9 Canada;X-APPLE-RADIUS=500;X-TITLE=6282 Crowston Rd:geo:-123.7935527,49.4998974
END:VEVENT
BEGIN:VEVENT
DTSTART;VALUE=DATE:20250724
DTEND;VALUE=DATE:20250726
DTSTAMP:20260419T091910
CREATED:20250719T183748Z
LAST-MODIFIED:20250719T184356Z
UID:10088782-1753318800-1753405199@coastculture.com
SUMMARY:Opportunity: Calling all Young Artists & Food Vendors
DESCRIPTION:Heat and Sol Coastal Farm are hosting a Youth Art Exhibit & Cafe at their Art Crawl venue in West Sechelt for Art Crawl 2025. We are looking for young artists and food vendors to join our exhibit themed ‘Be Brave’. \nThere is no fee to exhibit or sell your art. This is a community / family friendly event to celebrate all the young creatives in our community. \nTo apply\, head to our website\, www.heartandsol.ca/artcrawl2025.
URL:https://coastculture.com/event/opportunity-calling-all-young-artists-food-vendors/2025-07-24/
LOCATION:Heart and Sol Farm\, 6282 Crowston Rd\, Sechelt\, BC\, V0N 1V9\, Canada
CATEGORIES:Artist Opportunity
GEO:49.4998974;-123.7935527
X-APPLE-STRUCTURED-LOCATION;VALUE=URI;X-ADDRESS=Heart and Sol Farm 6282 Crowston Rd Sechelt BC V0N 1V9 Canada;X-APPLE-RADIUS=500;X-TITLE=6282 Crowston Rd:geo:-123.7935527,49.4998974
END:VEVENT
BEGIN:VEVENT
DTSTART;VALUE=DATE:20250723
DTEND;VALUE=DATE:20250725
DTSTAMP:20260419T091910
CREATED:20250719T183748Z
LAST-MODIFIED:20250719T184356Z
UID:10088781-1753232400-1753318799@coastculture.com
SUMMARY:Opportunity: Calling all Young Artists & Food Vendors
DESCRIPTION:Heat and Sol Coastal Farm are hosting a Youth Art Exhibit & Cafe at their Art Crawl venue in West Sechelt for Art Crawl 2025. We are looking for young artists and food vendors to join our exhibit themed ‘Be Brave’. \nThere is no fee to exhibit or sell your art. This is a community / family friendly event to celebrate all the young creatives in our community. \nTo apply\, head to our website\, www.heartandsol.ca/artcrawl2025.
URL:https://coastculture.com/event/opportunity-calling-all-young-artists-food-vendors/2025-07-23/
LOCATION:Heart and Sol Farm\, 6282 Crowston Rd\, Sechelt\, BC\, V0N 1V9\, Canada
CATEGORIES:Artist Opportunity
GEO:49.4998974;-123.7935527
X-APPLE-STRUCTURED-LOCATION;VALUE=URI;X-ADDRESS=Heart and Sol Farm 6282 Crowston Rd Sechelt BC V0N 1V9 Canada;X-APPLE-RADIUS=500;X-TITLE=6282 Crowston Rd:geo:-123.7935527,49.4998974
END:VEVENT
END:VCALENDAR