BEGIN:VCALENDAR
VERSION:2.0
PRODID:-//Coast Cultural Alliance (CCA) - ECPv6.15.18//NONSGML v1.0//EN
CALSCALE:GREGORIAN
METHOD:PUBLISH
X-ORIGINAL-URL:https://coastculture.com
X-WR-CALDESC:Events for Coast Cultural Alliance (CCA)
REFRESH-INTERVAL;VALUE=DURATION:PT1H
X-Robots-Tag:noindex
X-PUBLISHED-TTL:PT1H
BEGIN:VTIMEZONE
TZID:America/Vancouver
BEGIN:DAYLIGHT
TZOFFSETFROM:-0800
TZOFFSETTO:-0700
TZNAME:PDT
DTSTART:20240310T100000
END:DAYLIGHT
BEGIN:STANDARD
TZOFFSETFROM:-0700
TZOFFSETTO:-0800
TZNAME:PST
DTSTART:20241103T090000
END:STANDARD
BEGIN:DAYLIGHT
TZOFFSETFROM:-0800
TZOFFSETTO:-0700
TZNAME:PDT
DTSTART:20250309T100000
END:DAYLIGHT
BEGIN:STANDARD
TZOFFSETFROM:-0700
TZOFFSETTO:-0800
TZNAME:PST
DTSTART:20251102T090000
END:STANDARD
BEGIN:DAYLIGHT
TZOFFSETFROM:-0800
TZOFFSETTO:-0700
TZNAME:PDT
DTSTART:20260308T100000
END:DAYLIGHT
BEGIN:STANDARD
TZOFFSETFROM:-0700
TZOFFSETTO:-0800
TZNAME:PST
DTSTART:20261101T090000
END:STANDARD
END:VTIMEZONE
BEGIN:VEVENT
DTSTART;TZID=America/Vancouver:20251022T100000
DTEND;TZID=America/Vancouver:20251022T110000
DTSTAMP:20260420T162006
CREATED:20250918T172914Z
LAST-MODIFIED:20251028T180147Z
UID:10095934-1761127200-1761130800@coastculture.com
SUMMARY:Dougal Park: Nia with Dhyana - the Joy Workout
DESCRIPTION:Wednesdays\, 10-11am to Nov 26th. \nMove your body\, free your spirit! Experience a fusion of martial arts\, energy practices\, yoga\, and dance—where strength flows into grace and music stirs the soul. \nIn the gazebo (weather permitting) or the Kinsmen Hall. \n4x card $55\, 8x card $100 (no time limit); drop-in $20
URL:https://coastculture.com/event/dougal-park-nia-with-dhyana-the-joy-workout/2025-10-22/
LOCATION:Dougall Park\, 516 Gower Point Road\, Gibsons\, BC\, V0N 1V0\, Canada
CATEGORIES:Community,Sports/Exercise/Yoga
ATTACH;FMTTYPE=image/jpeg:https://coastculture.com/wp-content/uploads/2023/05/nia-stick-man.jpg
GEO:49.3973749;-123.510124
X-APPLE-STRUCTURED-LOCATION;VALUE=URI;X-ADDRESS=Dougall Park 516 Gower Point Road Gibsons BC V0N 1V0 Canada;X-APPLE-RADIUS=500;X-TITLE=516 Gower Point Road:geo:-123.510124,49.3973749
END:VEVENT
BEGIN:VEVENT
DTSTART;TZID=America/Vancouver:20251015T100000
DTEND;TZID=America/Vancouver:20251015T110000
DTSTAMP:20260420T162006
CREATED:20250918T172914Z
LAST-MODIFIED:20251028T180147Z
UID:10095933-1760522400-1760526000@coastculture.com
SUMMARY:Dougal Park: Nia with Dhyana - the Joy Workout
DESCRIPTION:Wednesdays\, 10-11am to Nov 26th. \nMove your body\, free your spirit! Experience a fusion of martial arts\, energy practices\, yoga\, and dance—where strength flows into grace and music stirs the soul. \nIn the gazebo (weather permitting) or the Kinsmen Hall. \n4x card $55\, 8x card $100 (no time limit); drop-in $20
URL:https://coastculture.com/event/dougal-park-nia-with-dhyana-the-joy-workout/2025-10-15/
LOCATION:Dougall Park\, 516 Gower Point Road\, Gibsons\, BC\, V0N 1V0\, Canada
CATEGORIES:Community,Sports/Exercise/Yoga
ATTACH;FMTTYPE=image/jpeg:https://coastculture.com/wp-content/uploads/2023/05/nia-stick-man.jpg
GEO:49.3973749;-123.510124
X-APPLE-STRUCTURED-LOCATION;VALUE=URI;X-ADDRESS=Dougall Park 516 Gower Point Road Gibsons BC V0N 1V0 Canada;X-APPLE-RADIUS=500;X-TITLE=516 Gower Point Road:geo:-123.510124,49.3973749
END:VEVENT
BEGIN:VEVENT
DTSTART;TZID=America/Vancouver:20251008T100000
DTEND;TZID=America/Vancouver:20251008T110000
DTSTAMP:20260420T162006
CREATED:20250918T172914Z
LAST-MODIFIED:20251028T180147Z
UID:10095932-1759917600-1759921200@coastculture.com
SUMMARY:Dougal Park: Nia with Dhyana - the Joy Workout
DESCRIPTION:Wednesdays\, 10-11am to Nov 26th. \nMove your body\, free your spirit! Experience a fusion of martial arts\, energy practices\, yoga\, and dance—where strength flows into grace and music stirs the soul. \nIn the gazebo (weather permitting) or the Kinsmen Hall. \n4x card $55\, 8x card $100 (no time limit); drop-in $20
URL:https://coastculture.com/event/dougal-park-nia-with-dhyana-the-joy-workout/2025-10-08/
LOCATION:Dougall Park\, 516 Gower Point Road\, Gibsons\, BC\, V0N 1V0\, Canada
CATEGORIES:Community,Sports/Exercise/Yoga
ATTACH;FMTTYPE=image/jpeg:https://coastculture.com/wp-content/uploads/2023/05/nia-stick-man.jpg
GEO:49.3973749;-123.510124
X-APPLE-STRUCTURED-LOCATION;VALUE=URI;X-ADDRESS=Dougall Park 516 Gower Point Road Gibsons BC V0N 1V0 Canada;X-APPLE-RADIUS=500;X-TITLE=516 Gower Point Road:geo:-123.510124,49.3973749
END:VEVENT
BEGIN:VEVENT
DTSTART;TZID=America/Vancouver:20251001T100000
DTEND;TZID=America/Vancouver:20251001T110000
DTSTAMP:20260420T162006
CREATED:20250918T172914Z
LAST-MODIFIED:20251028T180147Z
UID:10095931-1759312800-1759316400@coastculture.com
SUMMARY:Dougal Park: Nia with Dhyana - the Joy Workout
DESCRIPTION:Wednesdays\, 10-11am to Nov 26th. \nMove your body\, free your spirit! Experience a fusion of martial arts\, energy practices\, yoga\, and dance—where strength flows into grace and music stirs the soul. \nIn the gazebo (weather permitting) or the Kinsmen Hall. \n4x card $55\, 8x card $100 (no time limit); drop-in $20
URL:https://coastculture.com/event/dougal-park-nia-with-dhyana-the-joy-workout/2025-10-01/
LOCATION:Dougall Park\, 516 Gower Point Road\, Gibsons\, BC\, V0N 1V0\, Canada
CATEGORIES:Community,Sports/Exercise/Yoga
ATTACH;FMTTYPE=image/jpeg:https://coastculture.com/wp-content/uploads/2023/05/nia-stick-man.jpg
GEO:49.3973749;-123.510124
X-APPLE-STRUCTURED-LOCATION;VALUE=URI;X-ADDRESS=Dougall Park 516 Gower Point Road Gibsons BC V0N 1V0 Canada;X-APPLE-RADIUS=500;X-TITLE=516 Gower Point Road:geo:-123.510124,49.3973749
END:VEVENT
BEGIN:VEVENT
DTSTART;TZID=America/Vancouver:20250924T100000
DTEND;TZID=America/Vancouver:20250924T110000
DTSTAMP:20260420T162006
CREATED:20250918T172914Z
LAST-MODIFIED:20251028T180147Z
UID:10095930-1758708000-1758711600@coastculture.com
SUMMARY:Dougal Park: Nia with Dhyana - the Joy Workout
DESCRIPTION:Wednesdays\, 10-11am to Nov 26th. \nMove your body\, free your spirit! Experience a fusion of martial arts\, energy practices\, yoga\, and dance—where strength flows into grace and music stirs the soul. \nIn the gazebo (weather permitting) or the Kinsmen Hall. \n4x card $55\, 8x card $100 (no time limit); drop-in $20
URL:https://coastculture.com/event/dougal-park-nia-with-dhyana-the-joy-workout/2025-09-24/
LOCATION:Dougall Park\, 516 Gower Point Road\, Gibsons\, BC\, V0N 1V0\, Canada
CATEGORIES:Community,Sports/Exercise/Yoga
ATTACH;FMTTYPE=image/jpeg:https://coastculture.com/wp-content/uploads/2023/05/nia-stick-man.jpg
GEO:49.3973749;-123.510124
X-APPLE-STRUCTURED-LOCATION;VALUE=URI;X-ADDRESS=Dougall Park 516 Gower Point Road Gibsons BC V0N 1V0 Canada;X-APPLE-RADIUS=500;X-TITLE=516 Gower Point Road:geo:-123.510124,49.3973749
END:VEVENT
END:VCALENDAR