BEGIN:VCALENDAR
VERSION:2.0
PRODID:-//Coast Cultural Alliance (CCA) - ECPv6.15.18//NONSGML v1.0//EN
CALSCALE:GREGORIAN
METHOD:PUBLISH
X-WR-CALNAME:Coast Cultural Alliance (CCA)
X-ORIGINAL-URL:https://coastculture.com
X-WR-CALDESC:Events for Coast Cultural Alliance (CCA)
REFRESH-INTERVAL;VALUE=DURATION:PT1H
X-Robots-Tag:noindex
X-PUBLISHED-TTL:PT1H
BEGIN:VTIMEZONE
TZID:America/Vancouver
BEGIN:DAYLIGHT
TZOFFSETFROM:-0800
TZOFFSETTO:-0700
TZNAME:PDT
DTSTART:20240310T100000
END:DAYLIGHT
BEGIN:STANDARD
TZOFFSETFROM:-0700
TZOFFSETTO:-0800
TZNAME:PST
DTSTART:20241103T090000
END:STANDARD
BEGIN:DAYLIGHT
TZOFFSETFROM:-0800
TZOFFSETTO:-0700
TZNAME:PDT
DTSTART:20250309T100000
END:DAYLIGHT
BEGIN:STANDARD
TZOFFSETFROM:-0700
TZOFFSETTO:-0800
TZNAME:PST
DTSTART:20251102T090000
END:STANDARD
BEGIN:DAYLIGHT
TZOFFSETFROM:-0800
TZOFFSETTO:-0700
TZNAME:PDT
DTSTART:20260308T100000
END:DAYLIGHT
BEGIN:STANDARD
TZOFFSETFROM:-0700
TZOFFSETTO:-0800
TZNAME:PST
DTSTART:20261101T090000
END:STANDARD
END:VTIMEZONE
BEGIN:VEVENT
DTSTART;VALUE=DATE:20251031
DTEND;VALUE=DATE:20251102
DTSTAMP:20260420T162006
CREATED:20251028T190523Z
LAST-MODIFIED:20251028T190523Z
UID:10099487-1761872400-1761958799@coastculture.com
SUMMARY:Opportunity: Coastal Community Grants Program
DESCRIPTION:Just tell us how an idea will make a positive impact in the community\, and how the funding may help get things started or deliver even more goodness in our neighborhoods. \nSince launching our Coastal Community Grants Program in 2023\, we’ve awarded over $17\,000 in extra funding to local individuals\, not-for-profits\, and community groups.  It’s our way of celebrating grassroots efforts by local changemakers and uplifting the amazing things happening right here in our community. \nApply Now!
URL:https://coastculture.com/event/opportunity-coastal-community-grants-program/2025-10-31/
CATEGORIES:Artist Opportunity
END:VEVENT
BEGIN:VEVENT
DTSTART;VALUE=DATE:20251030
DTEND;VALUE=DATE:20251101
DTSTAMP:20260420T162006
CREATED:20251028T190523Z
LAST-MODIFIED:20251028T190523Z
UID:10099486-1761786000-1761872399@coastculture.com
SUMMARY:Opportunity: Coastal Community Grants Program
DESCRIPTION:Just tell us how an idea will make a positive impact in the community\, and how the funding may help get things started or deliver even more goodness in our neighborhoods. \nSince launching our Coastal Community Grants Program in 2023\, we’ve awarded over $17\,000 in extra funding to local individuals\, not-for-profits\, and community groups.  It’s our way of celebrating grassroots efforts by local changemakers and uplifting the amazing things happening right here in our community. \nApply Now!
URL:https://coastculture.com/event/opportunity-coastal-community-grants-program/2025-10-30/
CATEGORIES:Artist Opportunity
END:VEVENT
BEGIN:VEVENT
DTSTART;VALUE=DATE:20251029
DTEND;VALUE=DATE:20251031
DTSTAMP:20260420T162006
CREATED:20251028T190523Z
LAST-MODIFIED:20251028T190523Z
UID:10099485-1761699600-1761785999@coastculture.com
SUMMARY:Opportunity: Coastal Community Grants Program
DESCRIPTION:Just tell us how an idea will make a positive impact in the community\, and how the funding may help get things started or deliver even more goodness in our neighborhoods. \nSince launching our Coastal Community Grants Program in 2023\, we’ve awarded over $17\,000 in extra funding to local individuals\, not-for-profits\, and community groups.  It’s our way of celebrating grassroots efforts by local changemakers and uplifting the amazing things happening right here in our community. \nApply Now!
URL:https://coastculture.com/event/opportunity-coastal-community-grants-program/2025-10-29/
CATEGORIES:Artist Opportunity
END:VEVENT
BEGIN:VEVENT
DTSTART;VALUE=DATE:20251028
DTEND;VALUE=DATE:20251030
DTSTAMP:20260420T162006
CREATED:20251028T190523Z
LAST-MODIFIED:20251028T190523Z
UID:10099484-1761613200-1761699599@coastculture.com
SUMMARY:Opportunity: Coastal Community Grants Program
DESCRIPTION:Just tell us how an idea will make a positive impact in the community\, and how the funding may help get things started or deliver even more goodness in our neighborhoods. \nSince launching our Coastal Community Grants Program in 2023\, we’ve awarded over $17\,000 in extra funding to local individuals\, not-for-profits\, and community groups.  It’s our way of celebrating grassroots efforts by local changemakers and uplifting the amazing things happening right here in our community. \nApply Now!
URL:https://coastculture.com/event/opportunity-coastal-community-grants-program/2025-10-28/
CATEGORIES:Artist Opportunity
END:VEVENT
END:VCALENDAR